BEGIN:VCALENDAR
VERSION:2.0
PRODID:-//ChamberMaster//Event Calendar 2.0//EN
METHOD:PUBLISH
X-PUBLISHED-TTL:P1H
REFRESH-INTERVAL:P1H
CALSCALE:GREGORIAN
BEGIN:VTIMEZONE
TZID:America/Chicago
BEGIN:DAYLIGHT
RRULE:FREQ=YEARLY;BYMONTH=3;BYDAY=2SU
DTSTART:20070101T000000
TZOFFSETFROM:-0600
TZOFFSETTO:-0500
TZNAME:Central Daylight Time
END:DAYLIGHT
BEGIN:STANDARD
RRULE:FREQ=YEARLY;BYMONTH=11;BYDAY=1SU
DTSTART:20070101T000000
TZOFFSETFROM:-0500
TZOFFSETTO:-0600
TZNAME:Central Standard Time
END:STANDARD
END:VTIMEZONE
BEGIN:VEVENT
DTSTART;TZID=America/Chicago:20260606T080000
DTEND;TZID=America/Chicago:20260606T090000
X-MICROSOFT-CDO-ALLDAYEVENT:FALSE
SUMMARY:Sun Festival Red\, White & Run 5K
DESCRIPTION:Lace up your running shoes and join us for the Red\, White\, & Run 5K! Whether you’re racing for a personal best or just out to enjoy the fun\, this high-energy event welcomes runners and walkers of all ages and abilities. Dress in your best red\, white\, and blue and hit the course for a morning full of community spirit\, movement\, and celebration. The route winds through Alexander City\, offering a festive atmosphere with plenty of encouragement along the way. Bring your friends\, bring your family\, and come be part of the fun as we celebrate fitness\, freedom\, and hometown pride. Follow us on Facebook at Sun Festival Alexander City for full registration information available soon.
X-ALT-DESC;FMTTYPE=text/html:Lace up your running shoes and join us for the Red\, White\, & Run 5K! Whether you’re racing for a personal best or just out to enjoy the fun\, this high-energy event welcomes runners and walkers of all ages and abilities. Dress in your best red\, white\, and blue and hit the course for a morning full of community spirit\, movement\, and celebration. The route winds through Alexander City\, offering a festive atmosphere with plenty of encouragement along the way. Bring your friends\, bring your family\, and come be part of the fun as we celebrate fitness\, freedom\, and hometown pride. Follow us on Facebook at Sun Festival Alexander City for full registration information available soon.
LOCATION:310 Green Street Alexander City AL 35010
UID:e.3035.1444999
SEQUENCE:3
DTSTAMP:20260421T152930Z
URL:https://alexandercitychamberofcommerceal.growthzoneapp.com/events/Details/sun-festival-red-white-run-5k-1711483?sourceTypeId=Hub
END:VEVENT
END:VCALENDAR
